BEGIN:VCALENDAR
VERSION:2.0
PRODID:www.codnes.sk
BEGIN:VEVENT
UID:69e9b5b3e3d7a
DTSTART:20260518T190000Z
SEQUENCE:0
TRANSP:OPAQUE
LOCATION:Palárikovo
SUMMARY:ZLATÁ BAŇA – divadelná komédia
CLASS:PUBLIC
DESCRIPTION: \n \nKomédia Reneho Freunda:ZLATÁ BAŇA\nSkvelá komédia\
 , ktorá sa odohráva v atraktívnom prostredí súkr
DTSTAMP:20260423T060123Z
END:VEVENT
END:VCALENDAR