BEGIN:VCALENDAR
VERSION:2.0
PRODID:www.codnes.sk
BEGIN:VEVENT
UID:69e9b5f219e65
DTSTART:20260505T180000Z
SEQUENCE:0
TRANSP:OPAQUE
LOCATION:Tlmače
SUMMARY:ZLATÁ BAŇA – divadelná komédia
CLASS:PUBLIC
DESCRIPTION: \n \nKomédia Reneho Freunda:ZLATÁ BAŇA\nSkvelá komédia\
 , ktorá sa odohráva v atraktívnom prostredí súkr
DTSTAMP:20260423T060226Z
END:VEVENT
END:VCALENDAR