BEGIN:VCALENDAR
VERSION:2.0
PRODID:www.codnes.sk
BEGIN:VEVENT
UID:69eccdc591678
DTSTART:20260426T150000Z
SEQUENCE:0
TRANSP:OPAQUE
LOCATION:Želiezovce
SUMMARY:Žiť sa oplatí - Štefan Repka Gorals
CLASS:PUBLIC
DTSTAMP:20260425T142053Z
END:VEVENT
END:VCALENDAR