BEGIN:VCALENDAR
VERSION:2.0
PRODID:www.codnes.sk
BEGIN:VEVENT
UID:69ea80d98a087
DTSTART:20230921T183000Z
SEQUENCE:0
TRANSP:OPAQUE
DTEND:20230921T223000Z
LOCATION:Zvolen
SUMMARY:ZEM PAMÄTÁ  (hosťujúce predstavenie SKD Martin)
CLASS:PUBLIC
DESCRIPTION:Autorský divadelný projekt\, hudobná biografia Karola Ducho
 ňa v réžii renomovaného českého režiséra J
DTSTAMP:20260423T202809Z
END:VEVENT
END:VCALENDAR