BEGIN:VCALENDAR
VERSION:2.0
PRODID:www.codnes.sk
BEGIN:VEVENT
UID:69e885fe778b4
DTSTART:20240712T163000Z
SEQUENCE:0
TRANSP:OPAQUE
DTEND:20240712T203000Z
LOCATION:Nitra
SUMMARY:Vínobusom za vínom
CLASS:PUBLIC
DESCRIPTION:Nepremeškajte návštevu vinárstiev PD Ivanka a Chateau Malan
 ta\, ktoré s nadšením očakávajú&nbsp\; vašu
DTSTAMP:20260422T082534Z
END:VEVENT
END:VCALENDAR