BEGIN:VCALENDAR
VERSION:2.0
PRODID:www.codnes.sk
BEGIN:VEVENT
UID:69e60cb90d6b4
DTSTART:20240913T220000Z
SEQUENCE:0
TRANSP:OPAQUE
LOCATION:Bratislava
SUMMARY:VIBRANCE w. D.K.O &amp\; Love Tempo / Aldea Club
CLASS:PUBLIC
DESCRIPTION:&amp\;#128467\; D&amp\;aacute\;tum: 13. september 2024\n&amp\;#
 128345\; Čas: 22:00 - 05:00\n&amp\;#128205\; Mi
DTSTAMP:20260420T112337Z
END:VEVENT
END:VCALENDAR