BEGIN:VCALENDAR
VERSION:2.0
PRODID:www.codnes.sk
BEGIN:VEVENT
UID:69ea80921bbf2
DTSTART:20260706T203000Z
SEQUENCE:0
TRANSP:OPAQUE
LOCATION:Bratislava
SUMMARY:VEĽA KRIKU PRE NIČ - LSS 2026
CLASS:PUBLIC
DESCRIPTION:Vstup do hľadiska o 20.00 hodine. Vstup na predstavenie len 
 do 20:30 hod.! Po začiatku predstavenia
DTSTAMP:20260423T202658Z
END:VEVENT
END:VCALENDAR