BEGIN:VCALENDAR
VERSION:2.0
PRODID:www.codnes.sk
BEGIN:VEVENT
UID:69e886cb8e179
DTSTART:20250530T190000Z
SEQUENCE:0
TRANSP:OPAQUE
LOCATION:Nové Zámky
SUMMARY:The Gentlemen RETRO TOUR 2025
CLASS:PUBLIC
DESCRIPTION:Večer na ktorý nezabudneš\nNa Slovensko opäť prichádza ex
 kluzívna tanečná mega šou v sexi RETRO štýle
DTSTAMP:20260422T082859Z
END:VEVENT
END:VCALENDAR