BEGIN:VCALENDAR
VERSION:2.0
PRODID:www.codnes.sk
BEGIN:VEVENT
UID:69e60bd54eb58
DTSTART:20240204T170000Z
SEQUENCE:0
TRANSP:OPAQUE
LOCATION:Svidník
SUMMARY:Tárajko a Popletajka\, 7 rokov s Vami
CLASS:PUBLIC
DESCRIPTION:Obľúbení detskí  interpréti Tárajko a Popletajka oslavu
 jú 7 narodeniny/ 7 rokov s Vami a pripravili
DTSTAMP:20260420T111949Z
END:VEVENT
END:VCALENDAR