BEGIN:VCALENDAR
VERSION:2.0
PRODID:www.codnes.sk
BEGIN:VEVENT
UID:69e9c598bb70d
DTSTART:20260424T190000Z
SEQUENCE:0
TRANSP:OPAQUE
LOCATION:Nitra
SUMMARY:Štyri ročné obdobia a a talianske hudobné perly
CLASS:PUBLIC
DESCRIPTION:Mimoriadny koncert: Štyri ročné obdobia a talianske hudobné
  perly Zažite nezabudnuteľný hudobný veče
DTSTAMP:20260423T070912Z
END:VEVENT
END:VCALENDAR