BEGIN:VCALENDAR
VERSION:2.0
PRODID:www.codnes.sk
BEGIN:VEVENT
UID:69e5f29f5a6ed
DTSTART:20260315T160000Z
SEQUENCE:0
TRANSP:OPAQUE
LOCATION:Tlmače
SUMMARY:SLOVENSKÉ ĽADOVÉ KRÁĽOVSTVO 2
CLASS:PUBLIC
DESCRIPTION:Slovenské ľadové kráľovstvo 2 je tu a naši malí aj veľk
 í diváci sa môžu tešiť na pokračovanie príbeh
DTSTAMP:20260420T093215Z
END:VEVENT
END:VCALENDAR