BEGIN:VCALENDAR
VERSION:2.0
PRODID:www.codnes.sk
BEGIN:VEVENT
UID:69e5deee2e4bf
DTSTART:20260918T170000Z
SEQUENCE:0
TRANSP:OPAQUE
DTEND:20260918T190000Z
LOCATION:Nitra
SUMMARY:Slamené ozdoby
CLASS:PUBLIC
DESCRIPTION:Poznáme ich ako súčasti dožinkového venca – symbolu úro
 dy. Málokto však vie\, že dožinkový veniec bol
DTSTAMP:20260420T080814Z
END:VEVENT
END:VCALENDAR