BEGIN:VCALENDAR
VERSION:2.0
PRODID:www.codnes.sk
BEGIN:VEVENT
UID:69e897864b947
DTSTART:20250803T190000Z
SEQUENCE:0
TRANSP:OPAQUE
LOCATION:Gbeľany
SUMMARY:Richard Müller koncert
CLASS:PUBLIC
DESCRIPTION:RICHARD MÜLLER – KONCERT PLNÝ SKVELEJ HUDBY A JEDINEČNEJ A
 TMOSFÉRY\n \nRichard Müller je bezpochyby je
DTSTAMP:20260422T094022Z
END:VEVENT
END:VCALENDAR