BEGIN:VCALENDAR
VERSION:2.0
PRODID:www.codnes.sk
BEGIN:VEVENT
UID:69e9b52adfa23
DTSTART:20260524T100000Z
SEQUENCE:0
TRANSP:OPAQUE
LOCATION:Levice
SUMMARY:RAPUNSEL NA VLÁSKU
CLASS:PUBLIC
DESCRIPTION:&amp\;#127917\;&amp\;#10024\; Rapunsel na vlásku – interakt
 ívne divadelné predstavenie pre deti a rodičo
DTSTAMP:20260423T055906Z
END:VEVENT
END:VCALENDAR