BEGIN:VCALENDAR
VERSION:2.0
PRODID:www.codnes.sk
BEGIN:VEVENT
UID:69ea66bc9c6c9
DTSTART:20230806T100000Z
SEQUENCE:0
TRANSP:OPAQUE
DTEND:20230806T140000Z
LOCATION:Bratislava
SUMMARY:Rande s mestom pre rodiny s deťmi: Tajomstvá a poklady Sandbergu
CLASS:PUBLIC
DESCRIPTION:V apríli\, kedy hral Sandberg a jeho okolie všetkými jarným
 i farbami\, sa nám\, žiaľ\, kvôli nepriazni p
DTSTAMP:20260423T183644Z
END:VEVENT
END:VCALENDAR