BEGIN:VCALENDAR
VERSION:2.0
PRODID:www.codnes.sk
BEGIN:VEVENT
UID:69e9b59a871d5
DTSTART:20260515T190000Z
SEQUENCE:0
TRANSP:OPAQUE
LOCATION:Zlaté Moravce
SUMMARY:Poplach v hoteli Westminster
CLASS:PUBLIC
DESCRIPTION:Poplach v hoteli Westminster\nPoslanec britského parlamentu R
 ichard Willey\, ubytovaný so svojou manže
DTSTAMP:20260423T060058Z
END:VEVENT
END:VCALENDAR