BEGIN:VCALENDAR
VERSION:2.0
PRODID:www.codnes.sk
BEGIN:VEVENT
UID:69e88656b40e7
DTSTART:20251010T190000Z
SEQUENCE:0
TRANSP:OPAQUE
LOCATION:Nitra
SUMMARY:POKÁČ Slovensko tour 2025
CLASS:PUBLIC
DESCRIPTION:Pokáč je český pesničkár a textár hrajúci na gitaru a u
 kulele. Patrí medzi prvých českých interpreto
DTSTAMP:20260422T082702Z
END:VEVENT
END:VCALENDAR