BEGIN:VCALENDAR
VERSION:2.0
PRODID:www.codnes.sk
BEGIN:VEVENT
UID:69e9b3fd9b4a3
DTSTART:20260528T190000Z
SEQUENCE:0
TRANSP:OPAQUE
LOCATION:Zlaté Moravce
SUMMARY:PIVO\, PLIENKY\,  PODPRSENKY
CLASS:PUBLIC
DESCRIPTION:PIVO\, PLIENKY\, PODPRSENKY\nPivo\, plienky\, podprsenky je abs
 olútne nový žáner - jedná sa o Hot Summer
DTSTAMP:20260423T055405Z
END:VEVENT
END:VCALENDAR