BEGIN:VCALENDAR
VERSION:2.0
PRODID:www.codnes.sk
BEGIN:VEVENT
UID:69ec02ae4becb
DTSTART:20581113T170000Z
SEQUENCE:0
TRANSP:OPAQUE
DTEND:20581113T210000Z
LOCATION:Nitra
SUMMARY:oko to
CLASS:PUBLIC
DTSTAMP:20260424T235422Z
END:VEVENT
END:VCALENDAR