BEGIN:VCALENDAR
VERSION:2.0
PRODID:www.codnes.sk
BEGIN:VEVENT
UID:69ea80e493d53
DTSTART:20221209T160000Z
SEQUENCE:0
TRANSP:OPAQUE
LOCATION:Bratislava
SUMMARY:OH HOKUS POKUS
CLASS:PUBLIC
DTSTAMP:20260423T202820Z
END:VEVENT
END:VCALENDAR