BEGIN:VCALENDAR
VERSION:2.0
PRODID:www.codnes.sk
BEGIN:VEVENT
UID:69e9b40907927
DTSTART:20260511T190000Z
SEQUENCE:0
TRANSP:OPAQUE
DTEND:20260511T235959Z
LOCATION:Bátovce
SUMMARY:Nádherná záhrada po nej zostala
CLASS:PUBLIC
DESCRIPTION:Koprodukčný site-specific projekt Bez javiska &amp\; Divadlo 
 Pôtoň.Príbeh barónky Sidónie Nádhernej a
DTSTAMP:20260423T055417Z
END:VEVENT
END:VCALENDAR