BEGIN:VCALENDAR
VERSION:2.0
PRODID:www.codnes.sk
BEGIN:VEVENT
UID:69e9b3764d0e9
DTSTART:20260508T190000Z
SEQUENCE:0
TRANSP:OPAQUE
DTEND:20260508T235900Z
LOCATION:Bátovce
SUMMARY:MRO3DLF (hosť: Divadlo Akadémie umení)
CLASS:PUBLIC
DESCRIPTION:Koľkokrát ste už museli fungovať\, aj keď sa to jednoducho
  nedalo?Inscenácia MRO3DLF z repertoáru Div
DTSTAMP:20260423T055150Z
END:VEVENT
END:VCALENDAR