BEGIN:VCALENDAR
VERSION:2.0
PRODID:www.codnes.sk
BEGIN:VEVENT
UID:69e6099170c3d
DTSTART:20260808T190000Z
SEQUENCE:0
TRANSP:OPAQUE
LOCATION:Bratislava
SUMMARY:LOVESTREAM Festival 2026 - 1-dňová Sobota
CLASS:PUBLIC
DESCRIPTION:Lovestream festival - najväčšia hudobná udalosť roka pric
 hádza už po piaty krát! Prvým headlinerom\,
DTSTAMP:20260420T111009Z
END:VEVENT
END:VCALENDAR