BEGIN:VCALENDAR
VERSION:2.0
PRODID:www.codnes.sk
BEGIN:VEVENT
UID:69eccad941e4a
DTSTART:20260505T180000Z
SEQUENCE:0
TRANSP:OPAQUE
LOCATION:Jesenské
SUMMARY:LA GIOIA - Romantické piesne
CLASS:PUBLIC
DESCRIPTION:LA GIOIA - je pop-operné trio v zložení: Martin Vetrák\, Pe
 ter Ševčík a Matej Vaník.\nSpevácke trio in
DTSTAMP:20260425T140825Z
END:VEVENT
END:VCALENDAR