BEGIN:VCALENDAR
VERSION:2.0
PRODID:www.codnes.sk
BEGIN:VEVENT
UID:69ecccbc8a046
DTSTART:20260504T180000Z
SEQUENCE:0
TRANSP:OPAQUE
DTEND:20260504T200000Z
LOCATION:Topoľčany
SUMMARY:Katarína Koščová a Daniel Špiner - Topoľčany
CLASS:PUBLIC
DESCRIPTION:Katarína Koščová a Daniel ŠpinerJedna speváčka a jeden k
 lavirista. V prípade\, že ide o dvojicu Koščo
DTSTAMP:20260425T141628Z
END:VEVENT
END:VCALENDAR