BEGIN:VCALENDAR
VERSION:2.0
PRODID:www.codnes.sk
BEGIN:VEVENT
UID:69ed40acf255c
DTSTART:20230330T190000Z
SEQUENCE:0
TRANSP:OPAQUE
DTEND:20230330T235900Z
LOCATION:Levice
SUMMARY:JURAJ HNILICA - akusticky | Levice
CLASS:PUBLIC
DESCRIPTION:Juraj Hnilica v prekrásnej synagóge v Leviciach!Už 30.3.2023
  o 19:00 predstaví Juraj Hnilica svoje n
DTSTAMP:20260425T223108Z
END:VEVENT
END:VCALENDAR