BEGIN:VCALENDAR
VERSION:2.0
PRODID:www.codnes.sk
BEGIN:VEVENT
UID:69e9b42dcaa05
DTSTART:20260518T190000Z
SEQUENCE:0
TRANSP:OPAQUE
DTEND:20260518T210000Z
LOCATION:Levice
SUMMARY:Jakub Zitron Ťapák: Večer československého internetového biz
 áru | 18. 5. | Levice
CLASS:PUBLIC
DESCRIPTION:Pripravte sa na uletenú jazdu tým najlepším a najhorším\,
  čo kedy česko-slovenský internet splodil. J
DTSTAMP:20260423T055453Z
END:VEVENT
END:VCALENDAR