BEGIN:VCALENDAR
VERSION:2.0
PRODID:www.codnes.sk
BEGIN:VEVENT
UID:69eccea820c74
DTSTART:20260502T170000Z
SEQUENCE:0
TRANSP:OPAQUE
DTEND:20260502T210000Z
LOCATION:Nitra
SUMMARY:FC NITRA - ŠK LR CRYSTAL
CLASS:PUBLIC
DESCRIPTION:Ďalší domáci ligový zápas jarnej časti sezóny 2025/2026
  odohrá FC Nitra v sobotu 02. mája 2026 o 17:
DTSTAMP:20260425T142440Z
END:VEVENT
END:VCALENDAR