BEGIN:VCALENDAR
VERSION:2.0
PRODID:www.codnes.sk
BEGIN:VEVENT
UID:69e732a87ff8a
DTSTART:20230311T200000Z
SEQUENCE:0
TRANSP:OPAQUE
LOCATION:Bratislava
SUMMARY:Domáca úroda: VILLA LUCIA
CLASS:PUBLIC
DESCRIPTION:„Skutočná“ komédia Villa Lucia rozpráva príbeh trojice
  kamarátov\, ktorých ešte aj po tridsiatke spáj
DTSTAMP:20260421T081744Z
END:VEVENT
END:VCALENDAR