BEGIN:VCALENDAR
VERSION:2.0
PRODID:www.codnes.sk
BEGIN:VEVENT
UID:69e88658def91
DTSTART:20260502T100000Z
SEQUENCE:0
TRANSP:OPAQUE
DTEND:20260502T190000Z
LOCATION:Bojná
SUMMARY:Cyklobusom do Bojnej a na Duchonku
CLASS:PUBLIC
DESCRIPTION:Odchod z Nitry je o&nbsp\;10.00 hodine&nbsp\;z&nbsp\;parkoviska
  za Autobusovou stanicou Nitra (za bufet
DTSTAMP:20260422T082704Z
END:VEVENT
END:VCALENDAR