BEGIN:VCALENDAR
VERSION:2.0
PRODID:www.codnes.sk
BEGIN:VEVENT
UID:69e9b4dd7f75a
DTSTART:20260506T190000Z
SEQUENCE:0
TRANSP:OPAQUE
DTEND:20260506T235900Z
LOCATION:Šaľa
SUMMARY:Chlast | 6.5. | Šaľa
CLASS:PUBLIC
DESCRIPTION:Slováci\, ruku na srdce\, pijeme málo? Je pohár života po 
 štyridsiatke viac poloprázdny\, alebo nám už
DTSTAMP:20260423T055749Z
END:VEVENT
END:VCALENDAR