BEGIN:VCALENDAR
VERSION:2.0
PRODID:www.codnes.sk
BEGIN:VEVENT
UID:69e60a55146fd
DTSTART:20211111T180000Z
SEQUENCE:0
TRANSP:OPAQUE
DTEND:20211113T220000Z
LOCATION:Žilina
SUMMARY:Cestou necestou\, 5-tisíc km po vlastných & Snow Film Fest
CLASS:PUBLIC
DESCRIPTION:2 festivaly počas 3 dní.Začneme vo štvrtok Snow Film Festom
  so 6 filmami plných snehu\, ľadu a adrena
DTSTAMP:20260420T111325Z
END:VEVENT
END:VCALENDAR