BEGIN:VCALENDAR
VERSION:2.0
PRODID:www.codnes.sk
BEGIN:VEVENT
UID:69e9b59ff1f2c
DTSTART:20260607T180000Z
SEQUENCE:0
TRANSP:OPAQUE
LOCATION:Zlaté Moravce
SUMMARY:BOSÉ NOHY V PARKU - Romantická komédia
CLASS:PUBLIC
DESCRIPTION:BOSÉ NOHY V PARKU prináša príbeh mladomanželov\, ktorí sa
  po svadbe nasťahujú do svojho prvého bytu –
DTSTAMP:20260423T060103Z
END:VEVENT
END:VCALENDAR