BEGIN:VCALENDAR
VERSION:2.0
PRODID:www.codnes.sk
BEGIN:VEVENT
UID:69ea810910e17
DTSTART:20251122T193000Z
SEQUENCE:0
TRANSP:OPAQUE
LOCATION:Bratislava
SUMMARY:André Rieu
CLASS:PUBLIC
DESCRIPTION:ANDRÉ RIEU VYSTÚPI NA SLOVENSKU V ROKU 2025 DVAKRÁT!\n \nAn
 dré Rieu\, často prezývaný ako „Kráľ valčíka
DTSTAMP:20260423T202857Z
END:VEVENT
END:VCALENDAR