BEGIN:VCALENDAR
VERSION:2.0
PRODID:www.codnes.sk
BEGIN:VEVENT
UID:69e9b4d507433
DTSTART:20260527T190000Z
SEQUENCE:0
TRANSP:OPAQUE
LOCATION:Šurany
SUMMARY:Adela a štyria chlapi
CLASS:PUBLIC
DESCRIPTION:„Adela a štyria chlapi“ \nAdela VinczeováVladimír Kobie
 lskyFilip TúmaMarek FašiangAdam Bardy\nProdukci
DTSTAMP:20260423T055741Z
END:VEVENT
END:VCALENDAR