BEGIN:VCALENDAR
VERSION:2.0
PRODID:www.codnes.sk
BEGIN:VEVENT
UID:69e9b49eaac7d
DTSTART:20260526T190000Z
SEQUENCE:0
TRANSP:OPAQUE
LOCATION:Topoľčany
SUMMARY:Adela a štyria chlapi
CLASS:PUBLIC
DESCRIPTION:„Adela a štyria chlapi“ \nAdela VinczeováVladimír Kobie
 lskyFilip TúmaMarek FašiangAdam Bardy\nProdukci
DTSTAMP:20260423T055646Z
END:VEVENT
END:VCALENDAR