BEGIN:VCALENDAR
VERSION:2.0
PRODID:www.codnes.sk
BEGIN:VEVENT
UID:69eccdc5b31d9
DTSTART:20260427T190000Z
SEQUENCE:0
TRANSP:OPAQUE
LOCATION:Levice
SUMMARY:ABBA SHOW
CLASS:PUBLIC
DESCRIPTION:Najväčšie hity legendárnej skupiny ABBA v podaní jednej z 
 najlepší revivalovej kapely v Európe! Show
DTSTAMP:20260425T142053Z
END:VEVENT
END:VCALENDAR