BEGIN:VCALENDAR
VERSION:2.0
PRODID:www.codnes.sk
BEGIN:VEVENT
UID:69e9b593c5d38
DTSTART:20260426T180000Z
SEQUENCE:0
TRANSP:OPAQUE
LOCATION:Nitra
SUMMARY:30. výročie Old School Brothers
CLASS:PUBLIC
DESCRIPTION:Príďte osláviť 30. výročie tanečnej skupiny Old School B
 rothers dňa 26.4. 2026 o 18:00h do Divadla A
DTSTAMP:20260423T060051Z
END:VEVENT
END:VCALENDAR